BEGIN:VCALENDAR
VERSION:2.0
PRODID:-//MJC Castelnau-le-Lez - ECPv5.16.4//NONSGML v1.0//EN
CALSCALE:GREGORIAN
METHOD:PUBLISH
X-WR-CALNAME:MJC Castelnau-le-Lez
X-ORIGINAL-URL:https://mjc-castelnau.fr
X-WR-CALDESC:évènements pour MJC Castelnau-le-Lez
BEGIN:VTIMEZONE
TZID:Europe/Paris
BEGIN:DAYLIGHT
TZOFFSETFROM:+0100
TZOFFSETTO:+0200
TZNAME:CEST
DTSTART:20220327T010000
END:DAYLIGHT
BEGIN:STANDARD
TZOFFSETFROM:+0200
TZOFFSETTO:+0100
TZNAME:CET
DTSTART:20221030T010000
END:STANDARD
END:VTIMEZONE
BEGIN:VEVENT
DTSTART;TZID=Europe/Paris:20220625T193000
DTEND;TZID=Europe/Paris:20220625T210000
DTSTAMP:20260421T123703
CREATED:20220610T104025Z
LAST-MODIFIED:20221020T154151Z
UID:11029-1656185400-1656190800@mjc-castelnau.fr
SUMMARY:Ballet Danse Classique 2022
DESCRIPTION:Samedi 25 juin – 19h30 – LE KIASMA \nLes élèves de Christine Laneaud présentent « DEFILE HAUTE COUTURE » le ballet danse classique de fin de saison. \n  \nP.A.F : 6€ / 2€ – de 10 ANS / Gratuit pour les – de 3 ans ( sans place assise) \nBilletterie uniquement à l’accueil de la MJC Centre André Malraux\nOuverte du Lundi au vendredi de 9 à 12h et de 14h à 19h
URL:https://mjc-castelnau.fr/evenements/ballet-danse-classique-2022/
LOCATION:Kiasma\, 1 rue de la Crouzette\, Castelnau-le-Lez\, 34170\, France
CATEGORIES:DANSE
ATTACH;FMTTYPE=image/png:https://mjc-castelnau.fr/wp-content/uploads/2022/06/Affiche_gala_danse_classique-22.png
END:VEVENT
END:VCALENDAR