BEGIN:VCALENDAR
VERSION:2.0
PRODID:-//MJC Castelnau-le-Lez - ECPv5.16.4//NONSGML v1.0//EN
CALSCALE:GREGORIAN
METHOD:PUBLISH
X-WR-CALNAME:MJC Castelnau-le-Lez
X-ORIGINAL-URL:https://mjc-castelnau.fr
X-WR-CALDESC:évènements pour MJC Castelnau-le-Lez
BEGIN:VTIMEZONE
TZID:Europe/Paris
BEGIN:DAYLIGHT
TZOFFSETFROM:+0100
TZOFFSETTO:+0200
TZNAME:CEST
DTSTART:20180325T010000
END:DAYLIGHT
BEGIN:STANDARD
TZOFFSETFROM:+0200
TZOFFSETTO:+0100
TZNAME:CET
DTSTART:20181028T010000
END:STANDARD
END:VTIMEZONE
BEGIN:VEVENT
DTSTART;TZID=Europe/Paris:20181119T090000
DTEND;TZID=Europe/Paris:20181130T190000
DTSTAMP:20260423T131746
CREATED:20181017T104319Z
LAST-MODIFIED:20181119T165835Z
UID:595-1542618000-1543604400@mjc-castelnau.fr
SUMMARY:Sculptures de Bernard Ollagnon
DESCRIPTION:« LE LIBRE JEU DES FORMES ET DES MATIÈRES »\nSculpture de Bernard Ollagnon\nDU 19 AU 30 NOVEMBRE\nVernissage : jeudi 22 novembre à 18h30 \nAprès une carrière d’éducateur spécialisé auprès de jeunes en difficultés\, Bernard Ollagnon se consacre à la sculpture qu’il a beaucoup utilisé en institut de rééducation. Autodidacte\, il a fait le choix depuis quelques années de s’attaquer à la figure. Il s’est confronté à la question de la représentation en évitant l’écueil de l’académisme. Ce n’est pas l’idée qui guide le projet mais bien le libre jeu des formes et des matières. \nL’artiste prend un plaisir intense à mélanger les matières et à assembler le métal\, le bois\, le stuc\, le chanvre et tout autre éléments trouvés pour accentuer les postures des personnages. Ce mélange composite donne toute leur singularité à ses sculptures où le mouvement se conjugue avec la densité des formes.
URL:https://mjc-castelnau.fr/evenements/exposition-bernard-ollagnon/
LOCATION:Centre André Malraux\, 10 avenue de la Moutte\, Castelnau-le-Lez\, 34170\, France
CATEGORIES:EXPOSITION
ATTACH;FMTTYPE=image/jpeg:https://mjc-castelnau.fr/wp-content/uploads/2018/10/Ollagnon0.jpg
END:VEVENT
END:VCALENDAR