BEGIN:VCALENDAR
VERSION:2.0
PRODID:-//MJC Castelnau-le-Lez - ECPv5.16.4//NONSGML v1.0//EN
CALSCALE:GREGORIAN
METHOD:PUBLISH
X-WR-CALNAME:MJC Castelnau-le-Lez
X-ORIGINAL-URL:https://mjc-castelnau.fr
X-WR-CALDESC:évènements pour MJC Castelnau-le-Lez
BEGIN:VTIMEZONE
TZID:Europe/Paris
BEGIN:DAYLIGHT
TZOFFSETFROM:+0100
TZOFFSETTO:+0200
TZNAME:CEST
DTSTART:20230326T010000
END:DAYLIGHT
BEGIN:STANDARD
TZOFFSETFROM:+0200
TZOFFSETTO:+0100
TZNAME:CET
DTSTART:20231029T010000
END:STANDARD
END:VTIMEZONE
BEGIN:VEVENT
DTSTART;TZID=Europe/Paris:20230509T080000
DTEND;TZID=Europe/Paris:20230630T170000
DTSTAMP:20260423T071335
CREATED:20230525T143751Z
LAST-MODIFIED:20230525T144137Z
UID:11764-1683619200-1688144400@mjc-castelnau.fr
SUMMARY:Festival des Adhérents 22-23
DESCRIPTION:Festival des Adhérents\nExpo\, théâtre\, danses\, musique… du 9 mai au 30 juin 2023 Retrouvez tout le programme ci dessous ! Cliquez sur l’image pour ouvrir en PDF haute définition.
URL:https://mjc-castelnau.fr/evenements/festival-des-adherents-22-23/
CATEGORIES:DANSE,EXPOSITION,HUMOUR,MJC,MUSIQUE,SCENE OUVERTE,SPECTACLE,THEATRE
END:VEVENT
END:VCALENDAR