BEGIN:VCALENDAR
VERSION:2.0
PRODID:-//MJC Castelnau-le-Lez - ECPv5.16.4//NONSGML v1.0//EN
CALSCALE:GREGORIAN
METHOD:PUBLISH
X-WR-CALNAME:MJC Castelnau-le-Lez
X-ORIGINAL-URL:https://mjc-castelnau.fr
X-WR-CALDESC:évènements pour MJC Castelnau-le-Lez
BEGIN:VTIMEZONE
TZID:Europe/Paris
BEGIN:DAYLIGHT
TZOFFSETFROM:+0100
TZOFFSETTO:+0200
TZNAME:CEST
DTSTART:20200329T010000
END:DAYLIGHT
BEGIN:STANDARD
TZOFFSETFROM:+0200
TZOFFSETTO:+0100
TZNAME:CET
DTSTART:20201025T010000
END:STANDARD
END:VTIMEZONE
BEGIN:VEVENT
DTSTART;TZID=Europe/Paris:20200929T090000
DTEND;TZID=Europe/Paris:20201015T180000
DTSTAMP:20260422T065228
CREATED:20200923T092302Z
LAST-MODIFIED:20201006T082320Z
UID:9910-1601370000-1602784800@mjc-castelnau.fr
SUMMARY:Fête de la Science : Geek IRL
DESCRIPTION:  \nLa MJC et ses partenaires organisent du 29 Septembre au 15 Octobre une manifestation autour du thème Geek IRL (In Real Life). Tous un peu Geek\, nous avons tous du mal à nous déconnecter de nos écrans\, TV\, smartphone\, tablette etc. Être un Geek In Real Life\, c’est être actif dans un monde imaginaire sans se déconnecter de la vraie vie. C’est tout l’enjeu de cet événement créé par et pour le collège Frédéric Bazille.\n\nUn évènement labellisé Fête de la Science\, avec les responsables de la formation e-sport Montpellier Talent Players\, et les élèves du Collège Frédéric Bazille pour apprivoiser cette dépendance numérique au travers d’expositions\, d’ateliers\, de vidéo…\n\nLe port du masque est obligatoire dans tous les locaux de la MJC André Malraux.
URL:https://mjc-castelnau.fr/evenements/fete-de-la-science-geek-irl/
LOCATION:Centre André Malraux\, 10 avenue de la Moutte\, Castelnau-le-Lez\, 34170\, France
CATEGORIES:GRAND THÈME
END:VEVENT
END:VCALENDAR