BEGIN:VCALENDAR
VERSION:2.0
PRODID:-//MJC Castelnau-le-Lez - ECPv5.16.4//NONSGML v1.0//EN
CALSCALE:GREGORIAN
METHOD:PUBLISH
X-WR-CALNAME:MJC Castelnau-le-Lez
X-ORIGINAL-URL:https://mjc-castelnau.fr
X-WR-CALDESC:évènements pour MJC Castelnau-le-Lez
BEGIN:VTIMEZONE
TZID:Europe/Paris
BEGIN:DAYLIGHT
TZOFFSETFROM:+0100
TZOFFSETTO:+0200
TZNAME:CEST
DTSTART:20240331T010000
END:DAYLIGHT
BEGIN:STANDARD
TZOFFSETFROM:+0200
TZOFFSETTO:+0100
TZNAME:CET
DTSTART:20241027T010000
END:STANDARD
END:VTIMEZONE
BEGIN:VEVENT
DTSTART;TZID=Europe/Paris:20241001T090000
DTEND;TZID=Europe/Paris:20241009T190000
DTSTAMP:20260423T110115
CREATED:20240919T150545Z
LAST-MODIFIED:20240919T152311Z
UID:12809-1727773200-1728500400@mjc-castelnau.fr
SUMMARY:Fête de la Science : Un océan de savoirs !
DESCRIPTION:Une thématique pour découvrir le littoral d’ici et d’ailleurs\, les espèces sous-marines et le rôle des océans dans la régulation du climat ! \nPetits et grand pourront approfondir leurs connaissances à scientifiques au travers d’une exposition informative\, de conférences et d’un atelier enfants. \nTous les événements de cette manifestation sont en entrée libre et gratuite.\nCliquez ici pour réserver vos places ! \nRejoignez-nous le jeudi 3 octobre à 18h30 pour l’inauguration en présence des partenaires\, suivie d’une conférence de Pascal Girard « La biodiversité marine Héraultaise ». \n \nProgramme complet ci-dessous : 
URL:https://mjc-castelnau.fr/evenements/fete-de-la-science-un-ocean-de-savoirs/
LOCATION:Centre André Malraux\, 10 avenue de la Moutte\, Castelnau-le-Lez\, 34170\, France
CATEGORIES:Fête de la Science
END:VEVENT
END:VCALENDAR