BEGIN:VCALENDAR
VERSION:2.0
PRODID:-//MJC Castelnau-le-Lez - ECPv5.16.4//NONSGML v1.0//EN
CALSCALE:GREGORIAN
METHOD:PUBLISH
X-WR-CALNAME:MJC Castelnau-le-Lez
X-ORIGINAL-URL:https://mjc-castelnau.fr
X-WR-CALDESC:évènements pour MJC Castelnau-le-Lez
BEGIN:VTIMEZONE
TZID:Europe/Paris
BEGIN:DAYLIGHT
TZOFFSETFROM:+0100
TZOFFSETTO:+0200
TZNAME:CEST
DTSTART:20200329T010000
END:DAYLIGHT
BEGIN:STANDARD
TZOFFSETFROM:+0200
TZOFFSETTO:+0100
TZNAME:CET
DTSTART:20201025T010000
END:STANDARD
END:VTIMEZONE
BEGIN:VEVENT
DTSTART;TZID=Europe/Paris:20200309T193000
DTEND;TZID=Europe/Paris:20200309T210000
DTSTAMP:20260423T163147
CREATED:20200227T141801Z
LAST-MODIFIED:20200305T135725Z
UID:8699-1583782200-1583787600@mjc-castelnau.fr
SUMMARY:La fécondité dans l'art
DESCRIPTION:Ξ Conférence – La fécondité dans l’art\nLundi 9 mars à partir de 19h30\nLa parution en 2019 du livre «La fécondité dans l’art» est l’occasion pour son Auteur le Dr. Vincent Fauveau de revenir aborder le thème universel de la maternité à travers une grande variété de représentations artistiques découvertes durant les 25 dernières années aux 4 coins du monde. Vincent Fauveau a passé sa vie professionnelle\, dans le cadre de la santé publique internationale\, à essayer de réduire les complications de la grossesse et de l’accouchement dans le monde\, à faciliter la conception si les femmes le souhaitaient\, à leur permettre de ne pas avoir de grossesse si elles ne le désiraient pas. \nEntrée libre
URL:https://mjc-castelnau.fr/evenements/la-fecondite-dans-lart/
LOCATION:Centre André Malraux\, 10 avenue de la Moutte\, Castelnau-le-Lez\, 34170\, France
ATTACH;FMTTYPE=image/jpeg:https://mjc-castelnau.fr/wp-content/uploads/2020/02/Le-plan-des-dix-mondes-dans-le-corps-estampe-japonaise-ère-Meiji.jpg
END:VEVENT
END:VCALENDAR