BEGIN:VCALENDAR
VERSION:2.0
PRODID:-//MJC Castelnau-le-Lez - ECPv5.16.4//NONSGML v1.0//EN
CALSCALE:GREGORIAN
METHOD:PUBLISH
X-WR-CALNAME:MJC Castelnau-le-Lez
X-ORIGINAL-URL:https://mjc-castelnau.fr
X-WR-CALDESC:évènements pour MJC Castelnau-le-Lez
BEGIN:VTIMEZONE
TZID:Europe/Paris
BEGIN:DAYLIGHT
TZOFFSETFROM:+0100
TZOFFSETTO:+0200
TZNAME:CEST
DTSTART:20200329T010000
END:DAYLIGHT
BEGIN:STANDARD
TZOFFSETFROM:+0200
TZOFFSETTO:+0100
TZNAME:CET
DTSTART:20201025T010000
END:STANDARD
END:VTIMEZONE
BEGIN:VEVENT
DTSTART;TZID=Europe/Paris:20200321T203000
DTEND;TZID=Europe/Paris:20200321T223000
DTSTAMP:20260422T065840
CREATED:20191112T100116Z
LAST-MODIFIED:20200312T145502Z
UID:8466-1584822600-1584829800@mjc-castelnau.fr
SUMMARY:MATCH D'IMPRO [ANNULÉ]
DESCRIPTION:Ξ THEATRE – MATCH D’IMPRO [ANNULÉ]\nSamedi 21 mars – 20h30\nL’association Elektre partenaire de la MJC organise des soirées d’improvisations théâtrales portée par la troupe des Démons du M.I.D.I qui invitent d’autres improvisateurs pour des joutes hilarantes tout au long de la saison. \nFace a Face : deux équipes s’affrontent sur scène.\nUn affrontement ? Pas tout à fait ! Les comédien(ne)s vont jouer ensemble pour faire des jolies histoires !\nEt c’est toi public qui\, à l’issue de chaque impro \,votera pour l’équipe qui a le mieux joué et ainsi faire « gagner » ton équipe préférée !\nNos invités pour ce match sont : les Electrons lib’ de Libourne ! \nPAF : 5€ / 3€ Adh MJC
URL:https://mjc-castelnau.fr/evenements/match-dimpro-3/
LOCATION:Centre André Malraux\, 10 avenue de la Moutte\, Castelnau-le-Lez\, 34170\, France
CATEGORIES:THEATRE
ATTACH;FMTTYPE=image/png:https://mjc-castelnau.fr/wp-content/uploads/2019/11/Fichier-2.png
ORGANIZER;CN="Les%20d%C3%A9mons%20du%20M.I.D.I":MAILTO:ddmidi34@gmail.com
END:VEVENT
END:VCALENDAR