BEGIN:VCALENDAR
VERSION:2.0
PRODID:-//MJC Castelnau-le-Lez - ECPv5.16.4//NONSGML v1.0//EN
CALSCALE:GREGORIAN
METHOD:PUBLISH
X-WR-CALNAME:MJC Castelnau-le-Lez
X-ORIGINAL-URL:https://mjc-castelnau.fr
X-WR-CALDESC:évènements pour MJC Castelnau-le-Lez
BEGIN:VTIMEZONE
TZID:Europe/Paris
BEGIN:DAYLIGHT
TZOFFSETFROM:+0100
TZOFFSETTO:+0200
TZNAME:CEST
DTSTART:20220327T010000
END:DAYLIGHT
BEGIN:STANDARD
TZOFFSETFROM:+0200
TZOFFSETTO:+0100
TZNAME:CET
DTSTART:20221030T010000
END:STANDARD
END:VTIMEZONE
BEGIN:VEVENT
DTSTART;TZID=Europe/Paris:20220401T080000
DTEND;TZID=Europe/Paris:20220630T170000
DTSTAMP:20260423T185246
CREATED:20210907T083044Z
LAST-MODIFIED:20220401T140723Z
UID:10485-1648800000-1656608400@mjc-castelnau.fr
SUMMARY:Nouvel Agenda Culturel 21/22 #3
DESCRIPTION:  \nRetrouvez l’agenda culturel de Septembre à Novembre 2021 \n2021 2022 Agenda culturel #3 \n \n  \n \n  \n  \n 
URL:https://mjc-castelnau.fr/evenements/agenda-culturel-2021-2022/
LOCATION:Centre André Malraux\, 10 avenue de la Moutte\, Castelnau-le-Lez\, 34170\, France
CATEGORIES:EXPOSITION,HUMOUR,MJC,NOËL,SCENE OUVERTE,SPECTACLE,THEATRE
END:VEVENT
BEGIN:VEVENT
DTSTART;TZID=Europe/Paris:20220415T203000
DTEND;TZID=Europe/Paris:20220415T230000
DTSTAMP:20260423T185246
CREATED:20210915T093211Z
LAST-MODIFIED:20220404T120246Z
UID:10511-1650054600-1650063600@mjc-castelnau.fr
SUMMARY:Scène ouverte Avril 2022
DESCRIPTION:Vendredi 15 avril dès 19h30\, nouvelle date pour une scène ouverte toutes disciplines dans notre belle salle de spectacle du Centre André Malraux !\n\nUne scène ouverte c’est quoi?\nC’est une soirée où des artistes (musicien.ne\, Chanteur.se\, comédien.ne\, danseur.se…) font connaître leur univers artistique dans des conditions professionnelles. Le public peut alors découvrir des styles très différents (et même si certains vous déplaisent\, ça ne dure qu’un quart d’heure par passage!)\n\n19h30 : Apéro partagé*\n20h30 : Début des passages\nEntrée libre\n*chacun amène un petit quelque chose\n\nPour celles et ceux qui souhaitent monter sur scène\, il ne reste plus de créneaux disponibles\n\nQuant à toi cher spectateur\, pour toi c’est pas ici : https://reservation.mjc-castelnau.fr/
URL:https://mjc-castelnau.fr/evenements/scene-ouverte-15-avril/
LOCATION:Centre André Malraux\, 10 avenue de la Moutte\, Castelnau-le-Lez\, 34170\, France
CATEGORIES:MJC,MUSIQUE,SCENE OUVERTE
ATTACH;FMTTYPE=image/png:https://mjc-castelnau.fr/wp-content/uploads/2021/09/avrilscene-ouv-fevrier.png
END:VEVENT
END:VCALENDAR