BEGIN:VCALENDAR
VERSION:2.0
PRODID:-//MJC Castelnau-le-Lez - ECPv5.16.4//NONSGML v1.0//EN
CALSCALE:GREGORIAN
METHOD:PUBLISH
X-WR-CALNAME:MJC Castelnau-le-Lez
X-ORIGINAL-URL:https://mjc-castelnau.fr
X-WR-CALDESC:évènements pour MJC Castelnau-le-Lez
BEGIN:VTIMEZONE
TZID:Europe/Paris
BEGIN:DAYLIGHT
TZOFFSETFROM:+0100
TZOFFSETTO:+0200
TZNAME:CEST
DTSTART:20240331T010000
END:DAYLIGHT
BEGIN:STANDARD
TZOFFSETFROM:+0200
TZOFFSETTO:+0100
TZNAME:CET
DTSTART:20241027T010000
END:STANDARD
BEGIN:DAYLIGHT
TZOFFSETFROM:+0100
TZOFFSETTO:+0200
TZNAME:CEST
DTSTART:20250330T010000
END:DAYLIGHT
BEGIN:STANDARD
TZOFFSETFROM:+0200
TZOFFSETTO:+0100
TZNAME:CET
DTSTART:20251026T010000
END:STANDARD
END:VTIMEZONE
BEGIN:VEVENT
DTSTART;TZID=Europe/Paris:20240701T080000
DTEND;TZID=Europe/Paris:20250821T170000
DTSTAMP:20260425T131338
CREATED:20240705T132001Z
LAST-MODIFIED:20240709T154209Z
UID:11933-1719820800-1755795600@mjc-castelnau.fr
SUMMARY:Horaires été 2024
DESCRIPTION:Horaires été 2024\nLe Centre André Malraux ferme ses portes jusqu’au 30 août inclus.\nRéouverture au public le 2 septembre : du lundi au vendredi de 9h à 12h et de 14h à 19h. \nL’accueil des Arcades – 1756 avenue de l’Europe – 34170 Castelnau reste ouvert : \nJusqu’au 23 Aout 2024 : du lundi au vendredi de 9h à 12h. \nA partir du lundi 26 août 2024 : de 9h à 19h. \nBel été à vous !
URL:https://mjc-castelnau.fr/evenements/horaires-ete-2024-3/
CATEGORIES:MJC
END:VEVENT
BEGIN:VEVENT
DTSTART;TZID=Europe/Paris:20250505T080000
DTEND;TZID=Europe/Paris:20250627T233000
DTSTAMP:20260425T131338
CREATED:20250411T095014Z
LAST-MODIFIED:20250411T101524Z
UID:13314-1746432000-1751067000@mjc-castelnau.fr
SUMMARY:Festival des Adhérents ! Saison 2024-2025
DESCRIPTION:En mai et juin\, c’est le Festival des Adhérents à la MJC !\nL’occasion pour les adhérent.e.s en musique\, danse\, beaux-arts\, théâtre\, de vous montrer leurs talents !\nNouveauté cette année\, la section linguistique aussi vous a préparé un spectacle. \nDécouvrez le programme complet ci-dessous (cliquez pour voir en plus grand) : \n \nAuditions musicales et concerts\n \nGalas de danse au Kiasma et expositions à la MJC\n \nThéâtre et autres manifestations
URL:https://mjc-castelnau.fr/evenements/festival-des-adherents-saison-2024-2025/
CATEGORIES:EXPOSITION,GRAND THÈME,MJC,MUSIQUE,SCENE OUVERTE,SPECTACLE,THEATRE
END:VEVENT
BEGIN:VEVENT
DTSTART;TZID=Europe/Paris:20250626T203000
DTEND;TZID=Europe/Paris:20250626T213000
DTSTAMP:20260425T131338
CREATED:20250528T082715Z
LAST-MODIFIED:20250528T082824Z
UID:13396-1750969800-1750973400@mjc-castelnau.fr
SUMMARY:Rendez-vous avec les étoiles #28
DESCRIPTION:Rendez-vous avec les étoiles #28\nJeudi 26 juin à 20h30\, MJC Centre A. Malraux\nThème de la conférence à venir sur cette page\nMJC Centre André Malraux\nUn jeudi par mois\, la MJC propose une conférence d’astronomie de 45 min\, suivie d’un temps d’échange avec le public et d’une collation sucrée. \nEntrée libre\, pensez à réserver sur reservation.mjc-castelnau.fr \nClub d’astronomie de la MJC\nUn temps d’observations du ciel est prévu après la conférence dans le patio de la MJC\, si la météo le permet.\nPour écrire au club astro : clubastro34170@gmail.com
URL:https://mjc-castelnau.fr/evenements/rendez-vous-avec-les-etoiles-28/
LOCATION:Centre André Malraux\, 10 avenue de la Moutte\, Castelnau-le-Lez\, 34170\, France
CATEGORIES:ASTRONOMIE
ATTACH;FMTTYPE=image/png:https://mjc-castelnau.fr/wp-content/uploads/2023/11/image-bi-way-astro-15.png
END:VEVENT
END:VCALENDAR